BEGIN:VCALENDAR
VERSION:2.0
PRODID:-//Lincoln Wellington Athletic Club - ECPv6.15.17.1//NONSGML v1.0//EN
CALSCALE:GREGORIAN
METHOD:PUBLISH
X-WR-CALNAME:Lincoln Wellington Athletic Club
X-ORIGINAL-URL:https://www.lwac-demo.com
X-WR-CALDESC:Events for Lincoln Wellington Athletic Club
REFRESH-INTERVAL;VALUE=DURATION:PT1H
X-Robots-Tag:noindex
X-PUBLISHED-TTL:PT1H
BEGIN:VTIMEZONE
TZID:UTC
BEGIN:STANDARD
TZOFFSETFROM:+0000
TZOFFSETTO:+0000
TZNAME:UTC
DTSTART:20240101T000000
END:STANDARD
END:VTIMEZONE
BEGIN:VEVENT
DTSTART;TZID=UTC:20250607T100000
DTEND;TZID=UTC:20250608T170000
DTSTAMP:20260420T053244
CREATED:20250605T133549Z
LAST-MODIFIED:20250605T135022Z
UID:732-1749290400-1749402000@www.lwac-demo.com
SUMMARY:Northern Athletics U13/U15/U17 Champs
DESCRIPTION:
URL:https://www.lwac-demo.com/event/northern-athletics-u13-u15-u17-champs/
LOCATION:Liverpool Harriers and Athletic Club\, Wavertree\, Liverpool\, Merseyside\, L15 4LE\, United Kingdom
ATTACH;FMTTYPE=image/jpeg:https://www.lwac-demo.com/wp-content/uploads/2025/06/mid-dist-27-scaled-1.jpg
ORGANIZER;CN="Northern Athletics":MAILTO:mark@northernathletics.co.uk
END:VEVENT
BEGIN:VEVENT
DTSTART;TZID=UTC:20250607T170000
DTEND;TZID=UTC:20250607T210500
DTSTAMP:20260420T053244
CREATED:20250605T134743Z
LAST-MODIFIED:20250605T134849Z
UID:737-1749315600-1749330300@www.lwac-demo.com
SUMMARY:British Milers Club (BMC) Grand Prix
DESCRIPTION:
URL:https://www.lwac-demo.com/event/british-milers-club-bmc-grand-prix/
LOCATION:Birmingham University Athletics Track\, The Tennis Ct\,\, Birmingham\, West Midlands\, B15 2RB\, United Kingdom
ATTACH;FMTTYPE=image/jpeg:https://www.lwac-demo.com/wp-content/uploads/2025/06/Grand-Prix-2025.jpg
ORGANIZER;CN="British Milers Club (BMC)":MAILTO:competition@britishmilersclub.com
END:VEVENT
BEGIN:VEVENT
DTSTART;TZID=UTC:20250610T180000
DTEND;TZID=UTC:20250610T203000
DTSTAMP:20260420T053244
CREATED:20250605T135928Z
LAST-MODIFIED:20250605T140153Z
UID:747-1749578400-1749587400@www.lwac-demo.com
SUMMARY:Trafford AC Grand Prix
DESCRIPTION:
URL:https://www.lwac-demo.com/event/trafford-ac-grand-prix/
LOCATION:Trafford AC\, Trafford Athletic Stadium\, Longford Park Ryebank Road Chorlton-cum-Hardy\, Manchester\, M21 9TA
ATTACH;FMTTYPE=image/gif:https://www.lwac-demo.com/wp-content/uploads/2025/06/tac_logo_128x140.gif
END:VEVENT
BEGIN:VEVENT
DTSTART;TZID=UTC:20250611T180000
DTEND;TZID=UTC:20250611T203000
DTSTAMP:20260420T053244
CREATED:20250605T141423Z
LAST-MODIFIED:20250605T141423Z
UID:757-1749664800-1749673800@www.lwac-demo.com
SUMMARY:British Milers Club (BMC) Regional
DESCRIPTION:
URL:https://www.lwac-demo.com/event/british-milers-club-bmc-regional/
LOCATION:Paula Radcliffe Stadium\, Rutland Way\, Loughborough University\, Loughborough\, Leicestershire\, LE11 3TP\, United Kingdom
ATTACH;FMTTYPE=image/jpeg:https://www.lwac-demo.com/wp-content/uploads/2025/06/Grand-Prix-2025.jpg
ORGANIZER;CN="British Milers Club (BMC)":MAILTO:competition@britishmilersclub.com
END:VEVENT
BEGIN:VEVENT
DTSTART;TZID=UTC:20250611T180000
DTEND;TZID=UTC:20250611T203000
DTSTAMP:20260420T053244
CREATED:20250605T140832Z
LAST-MODIFIED:20250605T140832Z
UID:752-1749664800-1749673800@www.lwac-demo.com
SUMMARY:Charnwood AC Open
DESCRIPTION:
URL:https://www.lwac-demo.com/event/charnwood-ac-open/
LOCATION:Paula Radcliffe Stadium\, Rutland Way\, Loughborough University\, Loughborough\, Leicestershire\, LE11 3TP\, United Kingdom
ATTACH;FMTTYPE=image/webp:https://www.lwac-demo.com/wp-content/uploads/2025/06/a9fd6d_53d055dbe3dd41dda30276e325a78eb7mv2.webp
END:VEVENT
BEGIN:VEVENT
DTSTART;TZID=UTC:20250703T180000
DTEND;TZID=UTC:20250703T203000
DTSTAMP:20260420T053244
CREATED:20250606T101455Z
LAST-MODIFIED:20250606T101455Z
UID:765-1751565600-1751574600@www.lwac-demo.com
SUMMARY:British Milers Club (BMC)
DESCRIPTION:
URL:https://www.lwac-demo.com/event/british-milers-club-bmc/
LOCATION:Beckett Park Athletics Centre\, Leeds Metropolitan University Sport & Recreation Beckett Park Campus\, Leeds\, West Yorkshire\, LS6 3QS\, United Kingdom
ATTACH;FMTTYPE=image/png:https://www.lwac-demo.com/wp-content/uploads/2025/06/Screenshot-2025-06-06-111433.png
ORGANIZER;CN="British Milers Club (BMC)":MAILTO:competition@britishmilersclub.com
END:VEVENT
BEGIN:VEVENT
DTSTART;TZID=UTC:20250706T180000
DTEND;TZID=UTC:20250706T210000
DTSTAMP:20260420T053244
CREATED:20250605T150358Z
LAST-MODIFIED:20250605T150358Z
UID:760-1751824800-1751835600@www.lwac-demo.com
SUMMARY:City of Sheffield & Dearne AC - Run\, Jump\, Throw.
DESCRIPTION:
URL:https://www.lwac-demo.com/event/city-of-sheffield-dearne-ac-run-jump-throw/
LOCATION:Sheffield Hallam University City Athletics Stadium\, Stadium Way\, Sheffield\, South Yorkshire\, S9 3HL\, United Kingdom
ATTACH;FMTTYPE=image/png:https://www.lwac-demo.com/wp-content/uploads/2025/06/No_BG_Logo.png
ORGANIZER;CN="City of Sheffield & Dearne AC":MAILTO:runjumpthrowseriessheffac@gmail.com
END:VEVENT
BEGIN:VEVENT
DTSTART;TZID=UTC:20260417T080000
DTEND;TZID=UTC:20260418T170000
DTSTAMP:20260420T053244
CREATED:20260417T155928Z
LAST-MODIFIED:20260417T155928Z
UID:7061-1776412800-1776531600@www.lwac-demo.com
SUMMARY:Test
DESCRIPTION:
URL:https://www.lwac-demo.com/event/test/
END:VEVENT
END:VCALENDAR