BEGIN:VCALENDAR
VERSION:2.0
PRODID:-//Lincoln Wellington Athletic Club - ECPv6.15.17.1//NONSGML v1.0//EN
CALSCALE:GREGORIAN
METHOD:PUBLISH
X-WR-CALNAME:Lincoln Wellington Athletic Club
X-ORIGINAL-URL:https://www.lwac-demo.com
X-WR-CALDESC:Events for Lincoln Wellington Athletic Club
REFRESH-INTERVAL;VALUE=DURATION:PT1H
X-Robots-Tag:noindex
X-PUBLISHED-TTL:PT1H
BEGIN:VTIMEZONE
TZID:UTC
BEGIN:STANDARD
TZOFFSETFROM:+0000
TZOFFSETTO:+0000
TZNAME:UTC
DTSTART:20240101T000000
END:STANDARD
END:VTIMEZONE
BEGIN:VEVENT
DTSTART;VALUE=DATE:20250530
DTEND;VALUE=DATE:20250531
DTSTAMP:20260420T070445
CREATED:20250516T122407Z
LAST-MODIFIED:20250516T135836Z
UID:404-1748563200-1748649599@www.lwac-demo.com
SUMMARY:Test 2 event
DESCRIPTION:
URL:https://www.lwac-demo.com/event/test-2-event/
LOCATION:Yarborough Leisure Centre\, Yarborough Leisure Centre\, Riseholme Road\, Lincoln\, LN1 3PT\, United Kingdom
END:VEVENT
BEGIN:VEVENT
DTSTART;TZID=UTC:20250527T183000
DTEND;TZID=UTC:20250527T200000
DTSTAMP:20260420T070445
CREATED:20250516T121944Z
LAST-MODIFIED:20250521T210555Z
UID:401-1748370600-1748376000@www.lwac-demo.com
SUMMARY:5K Series
DESCRIPTION:The Lincoln Wellington 5K Series is a flat\, fast\, traffic free course that also incorporates an off road Mile race (one of only a few in the country). It also incorporates two junior races for different age groups at 3k and 1k distances. \nThe series is run over 4 races with the best 3 to count. A donation of £1 for every entry fee goes to the Alzheimer’s Society. \n\n5k – Individual Race Entry £10 (£8 Affiliated)\n5k – Series Entry £30 (£24 Affiliated)\n\nAge 15 and over \n\nMemory Mile – individual Race Entry £7 (£5 Affiliated)\nMemory Mile – Series Entry £21 (15 Affiliated)\n\nAge 9 and over \n\n3k Race – Individual Race Entry £7 (£5 Affiliated)\n3k Race – Series Entry £21 (15 Affiliated)\n\nAge 9 and over but under 15 \n\n1k Fun Run – individual Race Entry £5\n1k Fun Run – Series Entry £15\n\nAge 11 and under \nWe look forward to seeing you on the start line.
URL:https://www.lwac-demo.com/event/5k-series/
LOCATION:Yarborough Leisure Centre\, Yarborough Leisure Centre\, Riseholme Road\, Lincoln\, LN1 3PT\, United Kingdom
END:VEVENT
END:VCALENDAR